BEGIN:VCALENDAR
VERSION:2.0
PRODID:-//Torneos AoS//Evento//ES
CALSCALE:GREGORIAN
METHOD:PUBLISH
BEGIN:VEVENT
UID:torneo-57@torneosaos.com
DTSTAMP:20260424T133137Z
DTSTART;VALUE=DATE:20261220
DTEND;VALUE=DATE:20261221
SUMMARY:VII Torneo AoS GUARHAMMAR 2026
DESCRIPTION:VII Torneo AoS GUARHAMMAR 2026 figura en el calendario AoS de
  Disfunción Mágica para el domingo 20 de diciembre de 2026 en Guardamar d
 el Segura. La fecha está confirmada y el formato previsto es individual a
  2000 puntos y 3 rondas. Plazas\, precio\, cartel y canal de inscripción 
 quedan pendientes de publicación oficial.\nFicha: https://torneosaos.com/
 torneo/vii-torneo-aos-guarhammar-2026/
LOCATION:Disfunción Mágica\, Polígono Sup-7\, 03140 Guardamar del Segura\
 , Alicante\, Guardamar del Segura
URL:https://torneosaos.com/torneo/vii-torneo-aos-guarhammar-2026/
END:VEVENT
END:VCALENDAR
