BEGIN:VCALENDAR
VERSION:2.0
PRODID:-//Torneos AoS//Evento//ES
CALSCALE:GREGORIAN
METHOD:PUBLISH
BEGIN:VEVENT
UID:torneo-56@torneosaos.com
DTSTAMP:20260424T133137Z
DTSTART;VALUE=DATE:20260802
DTEND;VALUE=DATE:20260803
SUMMARY:VI Torneo AoS GUARHAMMAR 2026
DESCRIPTION:VI Torneo AoS GUARHAMMAR 2026 figura en el calendario AoS de 
 Disfunción Mágica para el domingo 2 de agosto de 2026 en Guardamar del Se
 gura. La fecha está confirmada y el formato previsto es individual a 2000
  puntos y 3 rondas. Plazas\, precio\, cartel y canal de inscripción queda
 n pendientes de publicación oficial.\nFicha: https://torneosaos.com/torne
 o/vi-torneo-aos-guarhammar-2026/
LOCATION:Disfunción Mágica\, Polígono Sup-7\, 03140 Guardamar del Segura\
 , Alicante\, Guardamar del Segura
URL:https://torneosaos.com/torneo/vi-torneo-aos-guarhammar-2026/
END:VEVENT
END:VCALENDAR
