BEGIN:VCALENDAR
VERSION:2.0
PRODID:-//Torneos AoS//Evento//ES
CALSCALE:GREGORIAN
METHOD:PUBLISH
BEGIN:VEVENT
UID:torneo-55@torneosaos.com
DTSTAMP:20260424T133137Z
DTSTART;VALUE=DATE:20260614
DTEND;VALUE=DATE:20260615
SUMMARY:V Torneo AoS GUARHAMMAR 2026
DESCRIPTION:V Torneo AoS GUARHAMMAR 2026 figura en el calendario AoS de D
 isfunción Mágica para el domingo 14 de junio de 2026 en Guardamar del Seg
 ura. La fecha está confirmada y el formato previsto es individual a 2000 
 puntos y 3 rondas. Plazas\, precio\, cartel y canal de inscripción quedan
  pendientes de publicación oficial.\nFicha: https://torneosaos.com/torneo
 /v-torneo-aos-guarhammar-2026/
LOCATION:Disfunción Mágica\, Polígono Sup-7\, 03140 Guardamar del Segura\
 , Alicante\, Guardamar del Segura
URL:https://torneosaos.com/torneo/v-torneo-aos-guarhammar-2026/
END:VEVENT
END:VCALENDAR
