BEGIN:VCALENDAR
VERSION:2.0
PRODID:-//Torneos AoS//Evento//ES
CALSCALE:GREGORIAN
METHOD:PUBLISH
BEGIN:VEVENT
UID:torneo-51@torneosaos.com
DTSTAMP:20260424T133137Z
DTSTART;VALUE=DATE:20260516
DTEND;VALUE=DATE:20260517
SUMMARY:Torneo III/26 Adeptus Luditorum
DESCRIPTION:Torneo III/26 Adeptus Luditorum el sábado 16 de mayo de 2026 
 en San Cristóbal de La Laguna (Tenerife). Torneo individual de Age of Sig
 mar a 2000 puntos y 3 rondas de 150 minutos\, bajo General's Handbook 202
 5-26\, con entre 14 y 20 plazas y pintado no exigido. La inscripción gene
 ral es de 15€ y de 12€ para socios de Adeptus Luditorum. El cierre de ins
 cripción y de envío de listas es el 9 de mayo de 2026. Emparejamientos y 
 clasificación por BCP\, torneo adscrito a Kanarian Open y con código de c
 ond…\nFicha: https://torneosaos.com/torneo/torneo-iii-26-adeptus-luditoru
 m/\nInscripción: https://docs.google.com/forms/d/e/1FAIpQLSdOlhf4jccnOg_N
 EYl4gZkFfogPQIyplSw_isQa_i9NwNkL1g/viewform\nBases: https://drive.google.
 com/file/d/1NouI839XmC0OCZ5G1KpuCe9C5mWCVRJm/view
LOCATION:Local Adeptus Luditorum\, Calle Santo Domingo Custodio\, 38108 S
 an Cristóbal de La Laguna\, Santa Cruz de Tenerife\, San Cristóbal de La 
 Laguna
URL:https://torneosaos.com/torneo/torneo-iii-26-adeptus-luditorum/
END:VEVENT
END:VCALENDAR
