BEGIN:VCALENDAR
VERSION:2.0
PRODID:-//Torneos AoS//Evento//ES
CALSCALE:GREGORIAN
METHOD:PUBLISH
BEGIN:VEVENT
UID:torneo-53@torneosaos.com
DTSTAMP:20260424T133137Z
DTSTART;VALUE=DATE:20260517
DTEND;VALUE=DATE:20260518
SUMMARY:IV Torneo AoS - Guarhammar 2026
DESCRIPTION:IV Torneo AoS - Guarhammar 2026 se celebra el domingo 17 de m
 ayo de 2026 en Disfunción Mágica\, Guardamar del Segura\, como Road to Hu
 erta de Batalla GT. Torneo individual de Age of Sigmar a 2000 puntos\, 3 
 rondas de 180 minutos\, horario de 08:30 a 19:30 y aforo máximo de 24 jug
 adores. Es rankeable ITC y está asociado a AEWAR. La inscripción está abi
 erta hasta el 10 de mayo de 2026 a las 23:59 desde la página oficial\, co
 n listas en BCP entre el 11 y el 12 de mayo y sorteo de planes de batalla
  el 1…\nFicha: https://torneosaos.com/torneo/iv-torneo-aos-guarhammar-202
 6/\nInscripción: https://disfuncionmagica.es/iv-torneo-aos-guarhammar-202
 6/
LOCATION:Disfunción Mágica\, Polígono Sup-7\, 03140 Guardamar del Segura\
 , Alicante\, Guardamar del Segura
URL:https://torneosaos.com/torneo/iv-torneo-aos-guarhammar-2026/
END:VEVENT
END:VCALENDAR
