BEGIN:VCALENDAR
VERSION:2.0
PRODID:-//Torneos AoS//Evento//ES
CALSCALE:GREGORIAN
METHOD:PUBLISH
BEGIN:VEVENT
UID:torneo-50@torneosaos.com
DTSTAMP:20260424T133137Z
DTSTART;VALUE=DATE:20260516
DTEND;VALUE=DATE:20260518
SUMMARY:III GT Individual de Sevilla
DESCRIPTION:III GT Individual de Sevilla se jugará el 16 y 17 de mayo de 
 2026 en el Club Social Vistazul de Dos Hermanas. Torneo individual de Age
  of Sigmar a 2000 puntos\, 5 rondas\, 50 plazas y 35€ por jugador\, puntu
 able ITC y con pintura no obligatoria. Las inscripciones están abiertas p
 or correo en aosgtsevilla@gmail.com. Los planes de batalla se publicarán 
 el 14 de abril y las listas deberán enviarse antes del 12 de mayo a las 2
 2:00\; los emparejamientos de la primera ronda se publicarán tras confirm
 ar a…\nFicha: https://torneosaos.com/torneo/iii-gt-individual-de-sevilla/
 \nBases: https://drive.google.com/file/d/1w_59resTQb5cauMs-p6nzHXJKamvNdI
 _/view\nMás información: https://drive.google.com/drive/folders/1b7jpxQB8
 xn4kSdgxgziMQ4hUpU96IjmO
LOCATION:Club Social Vistazul\, C/ Nelson Mandela\, 42\, 41702 Dos Herman
 as\, Sevilla\, Dos Hermanas
URL:https://torneosaos.com/torneo/iii-gt-individual-de-sevilla/
END:VEVENT
END:VCALENDAR
