BEGIN:VCALENDAR
VERSION:2.0
PRODID:-//Torneos AoS//Evento//ES
CALSCALE:GREGORIAN
METHOD:PUBLISH
BEGIN:VEVENT
UID:torneo-52@torneosaos.com
DTSTAMP:20260424T133137Z
DTSTART;VALUE=DATE:20260503
DTEND;VALUE=DATE:20260504
SUMMARY:Goblin Torneo: Vuelta a Terre'tha
DESCRIPTION:Goblin Torneo: Vuelta a Terre'tha se juega el domingo 3 de ma
 yo de 2026 en GoblinTrader - GTS Valencia. Torneo individual de Age of Si
 gmar de 4ª edición a 2000 puntos\, 3 rondas\, 30 plazas disponibles\, ent
 rada de 10€ y puntuable ITC. Para más información e inscripción\, el cart
 el remite al correo rucruc210@gmail.com.\nFicha: https://torneosaos.com/t
 orneo/goblin-torneo-vuelta-a-terre-tha/
LOCATION:GoblinTrader - GTS Valencia\, Carrer del Comte d'Altea\, 4\, 460
 05 Valencia\, Valencia
URL:https://torneosaos.com/torneo/goblin-torneo-vuelta-a-terre-tha/
END:VEVENT
END:VCALENDAR
