BEGIN:VCALENDAR
VERSION:2.0
PRODID:-//Torneos AoS//Evento//ES
CALSCALE:GREGORIAN
METHOD:PUBLISH
BEGIN:VEVENT
UID:torneo-58@torneosaos.com
DTSTAMP:20260424T133137Z
DTSTART;VALUE=DATE:20260524
DTEND;VALUE=DATE:20260525
SUMMARY:Goblin Torneo: Lloros y ella es bruja
DESCRIPTION:Goblin Torneo: Lloros y ella es bruja se juega el domingo 24 
 de mayo de 2026 en GoblinTrader - GTS Valencia. Torneo por parejas de Age
  of Sigmar 4ª edición\, con equipos de 2 jugadores y 2000 puntos por equi
 po. El precio publicado es de 10€ por jugador y el cartel remite al corre
 o rucruc210@gmail.com para contacto. Plazas\, rondas y resto de detalles 
 pendientes de publicación.\nFicha: https://torneosaos.com/torneo/goblin-t
 orneo-lloros-y-ella-es-bruja/
LOCATION:GoblinTrader - GTS Valencia\, Carrer del Comte d'Altea\, 4\, 460
 05 Valencia\, Valencia
URL:https://torneosaos.com/torneo/goblin-torneo-lloros-y-ella-es-bruja/
END:VEVENT
END:VCALENDAR
