BEGIN:VCALENDAR
VERSION:2.0
PRODID:-//Torneos AoS//Evento//ES
CALSCALE:GREGORIAN
METHOD:PUBLISH
BEGIN:VEVENT
UID:torneo-59@torneosaos.com
DTSTAMP:20260424T133137Z
DTSTART;VALUE=DATE:20260607
DTEND;VALUE=DATE:20260608
SUMMARY:Goblin Torneo: Final de temporada
DESCRIPTION:Goblin Torneo: Final de temporada se juega el domingo 7 de ju
 nio de 2026 en GoblinTrader - GTS Valencia. Torneo individual de Age of S
 igmar 4ª edición a 2000 puntos\, con 30 plazas disponibles y entrada de 1
 0€. El cartel remite al correo rucruc210@gmail.com para contacto e inscri
 pción. Rondas y resto de detalles pendientes de publicación.\nFicha: http
 s://torneosaos.com/torneo/goblin-torneo-final-de-temporada/
LOCATION:GoblinTrader - GTS Valencia\, Carrer del Comte d'Altea\, 4\, 460
 05 Valencia\, Valencia
URL:https://torneosaos.com/torneo/goblin-torneo-final-de-temporada/
END:VEVENT
END:VCALENDAR
